BEGIN:VCALENDAR
METHOD:PUBLISH
VERSION:2.0
CALSCALE:GREGORIAN
PRODID:-//NONSGML Sandhills Development\, LLC//NONSGML Sugar Calendar Fe
 eds v3.5.0//EN
X-WR-CALNAME:Offenes Gärtnern
X-WR-CALDESC:Bauhütte Kreuzberg e.V.
X-WR-TIMEZONE:Europe/Berlin
BEGIN:VTIMEZONE
TZID:Europe/Berlin
BEGIN:DAYLIGHT
TZOFFSETFROM:+0100
TZOFFSETTO:+0200
DTSTART:20200329T010000
TZNAME:CEST
END:DAYLIGHT
END:VTIMEZONE
BEGIN:VTIMEZONE
TZID:Europe/Berlin
BEGIN:DAYLIGHT
TZOFFSETFROM:+0100
TZOFFSETTO:+0200
DTSTART:20200329T010000
TZNAME:CEST
END:DAYLIGHT
END:VTIMEZONE
BEGIN:VEVENT
SUMMARY:Offenes Gärtnern
DESCRIPTION:
URL;VALUE=URI:https://bauhuette-kreuzberg.de/events/offenes-gaertnern/
UID:urn:uuid:1afd89a3-de90-4d39-9f8a-3c5bcf02d4e5
STATUS:CONFIRMED
ORGANIZER:
DTSTAMP:20260423T084135Z
DTSTART;TZID=Europe/Berlin:20200710T150000
DTEND;TZID=Europe/Berlin:20200710T200000
END:VEVENT
END:VCALENDAR