BEGIN:VCALENDAR
METHOD:PUBLISH
VERSION:2.0
CALSCALE:GREGORIAN
PRODID:-//NONSGML Sandhills Development\, LLC//NONSGML Sugar Calendar Fe
 eds v3.5.0//EN
X-WR-CALNAME:Foodsaver Bezirkstreffen
X-WR-CALDESC:Bauhütte Kreuzberg e.V.
X-WR-TIMEZONE:Europe/Berlin
BEGIN:VTIMEZONE
TZID:Europe/Berlin
BEGIN:DAYLIGHT
TZOFFSETFROM:+0100
TZOFFSETTO:+0200
DTSTART:20230326T010000
TZNAME:CEST
END:DAYLIGHT
END:VTIMEZONE
BEGIN:VTIMEZONE
TZID:Europe/Berlin
BEGIN:DAYLIGHT
TZOFFSETFROM:+0100
TZOFFSETTO:+0200
DTSTART:20230326T010000
TZNAME:CEST
END:DAYLIGHT
END:VTIMEZONE
BEGIN:VEVENT
SUMMARY:Foodsaver Bezirkstreffen
DESCRIPTION:
URL;VALUE=URI:https://bauhuette-kreuzberg.de/events/foodsaver-bezirkstre
 ffen/
UID:urn:uuid:c5619d79-4cb5-470f-8870-30d7f39d127c
STATUS:CONFIRMED
ORGANIZER:
DTSTAMP:20260420T084303Z
DTSTART;TZID=Europe/Berlin:20230914T190000
DTEND;TZID=Europe/Berlin:20230914T210000
END:VEVENT
END:VCALENDAR