BEGIN:VCALENDAR
METHOD:PUBLISH
VERSION:2.0
CALSCALE:GREGORIAN
PRODID:-//NONSGML Sandhills Development\, LLC//NONSGML Sugar Calendar Fe
 eds v3.5.0//EN
X-WR-CALNAME:Extinction Rebellion
X-WR-CALDESC:Bauhütte Kreuzberg e.V.
X-WR-TIMEZONE:Europe/Berlin
BEGIN:VTIMEZONE
TZID:Europe/Berlin
BEGIN:DAYLIGHT
TZOFFSETFROM:+0100
TZOFFSETTO:+0200
DTSTART:20230326T010000
TZNAME:CEST
END:DAYLIGHT
END:VTIMEZONE
BEGIN:VTIMEZONE
TZID:Europe/Berlin
BEGIN:DAYLIGHT
TZOFFSETFROM:+0100
TZOFFSETTO:+0200
DTSTART:20230326T010000
TZNAME:CEST
END:DAYLIGHT
END:VTIMEZONE
BEGIN:VEVENT
SUMMARY:Extinction Rebellion
DESCRIPTION:
URL;VALUE=URI:https://bauhuette-kreuzberg.de/events/extinction-rebellion
 -4/
UID:urn:uuid:f19a7e3b-581a-4134-a527-675e6dd70b9e
STATUS:CONFIRMED
ORGANIZER:
DTSTAMP:20260420T062500Z
DTSTART;TZID=Europe/Berlin:20230621T180000
DTEND;TZID=Europe/Berlin:20230621T200000
END:VEVENT
END:VCALENDAR