BEGIN:VCALENDAR
METHOD:PUBLISH
VERSION:2.0
CALSCALE:GREGORIAN
PRODID:-//NONSGML Sandhills Development\, LLC//NONSGML Sugar Calendar Fe
 eds v3.5.0//EN
X-WR-CALNAME:Andy Warholes Garden Party III
X-WR-CALDESC:Bauhütte Kreuzberg e.V.
X-WR-TIMEZONE:Europe/Berlin
BEGIN:VTIMEZONE
TZID:Europe/Berlin
BEGIN:DAYLIGHT
TZOFFSETFROM:+0100
TZOFFSETTO:+0200
DTSTART:20240331T010000
TZNAME:CEST
END:DAYLIGHT
END:VTIMEZONE
BEGIN:VTIMEZONE
TZID:Europe/Berlin
BEGIN:DAYLIGHT
TZOFFSETFROM:+0100
TZOFFSETTO:+0200
DTSTART:20240331T010000
TZNAME:CEST
END:DAYLIGHT
END:VTIMEZONE
BEGIN:VEVENT
SUMMARY:Andy Warholes Garden Party III
DESCRIPTION:
URL;VALUE=URI:https://bauhuette-kreuzberg.de/events/andy-warholes-garden
 -party-iii/
UID:urn:uuid:f49dfe47-2b02-4de1-932e-484b28dc42ae
STATUS:CONFIRMED
ORGANIZER:
DTSTAMP:20260423T143127Z
DTSTART;TZID=Europe/Berlin:20240630T000000
DTEND;TZID=Europe/Berlin:20240630T000000
END:VEVENT
END:VCALENDAR